BEGIN:VCALENDAR
VERSION:2.0
PRODID:-//ChamberMaster//Event Calendar 2.0//EN
METHOD:PUBLISH
X-PUBLISHED-TTL:P3D
REFRESH-INTERVAL:P3D
CALSCALE:GREGORIAN
BEGIN:VEVENT
DTSTART:20260220T163000Z
DTEND:20260220T180000Z
X-MICROSOFT-CDO-ALLDAYEVENT:FALSE
SUMMARY:2026 Legislative Update
DESCRIPTION:JOIN US\, \n\n\n\non Friday\, February 20th starting at 11:30 AM to 1:00 PM for an engaging Legislative Update where you'll have the chance to connect with our local legislators and gain valuable insights into the 2026 legislative session and its impact on local businesses and communities.\n\n\n\nWe are excited to welcome Senator Jean Leising\, Representative Jennifer Meltzer\, Representative Lindsay Patterson\, and Representative Alex Zimmerman as they provide updates on the bills they are authoring\, supporting\, or opposing. This is your opportunity to hear directly from these key leaders and engage in meaningful discussions about the issues that matter most to our region. \n\n\n\nLight lunch will be provided.\n\n\n\nFREE & OPEN TO THE GENERAL PUBLIC!\n\n\n\nRSVP is not necessary\, but appreciated for an estimated attendance.
X-ALT-DESC;FMTTYPE=text/html:<div style="text-align: center\;"><span style="font-size:26px\;"><strong style="color: rgb(156\, 169\, 0)\; font-family: arial\; text-align: center\;">JOIN US\,&nbsp\;</strong></span><br />\n<br />\n<span style="font-family:arial\;"><strong><span style="font-size: 14px\; text-align: center\; background-color: rgb(255\, 255\, 255)\;">on Friday\, February 20th&nbsp\;starting at 11:30 AM to 1:00 PM for an engaging Legislative Update where you&#39\;ll have the chance to connect with our local legislators and gain valuable insights into the 2026&nbsp\;legislative session and its impact on local businesses and communities.<br />\n<br />\nWe are excited to welcome Senator Jean Leising\, Representative Jennifer Meltzer\, Representative Lindsay Patterson\, and Representative Alex Zimmerman as they provide updates on the bills they are authoring\, supporting\, or opposing. This is your opportunity to hear directly from these key leaders and engage in meaningful discussions about the issues that matter most to our region.&nbsp\;<br />\n<br />\n<span style="font-size:16px\;">Light lunch will be provided.</span></span></strong></span><br />\n<br />\n<span style="font-size:18px\;"><span style="color:#9CA900\;"><span background-color:="" font-size:="" open="" text-align:=""><span style="font-family:arial\;"><strong>FREE &amp\; OPEN TO THE GENERAL PUBLIC!</strong></span></span></span></span><br />\n<br />\n<span style="font-size:14px\;"><span style="font-family:arial\;">RSVP is not necessary\, but appreciated for an estimated attendance.</span></span><br />\n&nbsp\;</div>\n
LOCATION:City of Greensburg - City Hall Multi-Purpose Room 314 W. Washington St. Greensburg\, IN 47240
UID:e.1535.4292
SEQUENCE:3
DTSTAMP:20260423T043046Z
URL:https://www.greensburgchamber.com/events/details/2025-legislative-update-4292
END:VEVENT

END:VCALENDAR
