BEGIN:VCALENDAR
VERSION:2.0
PRODID:-//ChamberMaster//Event Calendar 2.0//EN
METHOD:PUBLISH
X-PUBLISHED-TTL:P3D
REFRESH-INTERVAL:P3D
CALSCALE:GREGORIAN
BEGIN:VEVENT
DTSTART:20251101T160000Z
DTEND:20251101T160000Z
X-MICROSOFT-CDO-ALLDAYEVENT:FALSE
SUMMARY:2025 Men's Health Tailgate
DESCRIPTION:Our community is invited to join us for the 2025 Men's Health Tailgate on Saturday\, November 1 from 8:00 a.m.   10:00 a.m.\n\nReceive free health screenings\, breakfast\, entry into door prizes\, and more! Spaces are limited for this event and registration is required.\n\nFree Health Screenings* include:\n\n\n	\n	\n		A1c (Diabetes Risk)\n		CBC (Blood Cell Health)\n		CMP (Kidney & Liver Health)\n		Knee Movement Assessment\n		Lipid Panel (Heart Health)\n		Mental Health Assessment\n		PSA (Prostate Test)\n		Thyroid\n		Skin Cancer Screening\n	\n	\n\n\n*Must be 18 years of age to participate in the FREE screening and door prize drawings. Fasting is not required\, but some may prefer to.\n\nRegistration is required for participation in this event. Register by visiting the link or calling 812-663-1279 and leave a message.
X-ALT-DESC;FMTTYPE=text/html:<p><strong>Our community</strong>&nbsp\;is&nbsp\;<strong>invited</strong>&nbsp\;to&nbsp\;<strong>join us</strong>&nbsp\;for the&nbsp\;<strong>2025 Men&rsquo\;s Health Tailgate</strong>&nbsp\;on&nbsp\;<strong>Saturday\, November 1&nbsp\;</strong>from<strong>&nbsp\;8:00 a.m. &ndash\; 10:00 a.m.</strong></p>\n\n<p>Receive&nbsp\;<strong>free health screenings</strong>\,&nbsp\;<strong>breakfast</strong>\,&nbsp\;<strong>entry</strong>&nbsp\;into&nbsp\;<strong>door prizes</strong>\, and more!&nbsp\;<strong>Spaces are limited</strong>&nbsp\;for this event and&nbsp\;<strong>registration is required</strong>.</p>\n\n<p><strong>Free Health Screenings* include</strong>:</p>\n\n<ul>\n	<li>\n	<ul>\n		<li>A1c (Diabetes Risk)</li>\n		<li>CBC (Blood Cell Health)</li>\n		<li>CMP (Kidney &amp\; Liver Health)</li>\n		<li>Knee Movement Assessment</li>\n		<li>Lipid Panel (Heart Health)</li>\n		<li>Mental Health Assessment</li>\n		<li>PSA (Prostate Test)</li>\n		<li>Thyroid</li>\n		<li>Skin Cancer Screening</li>\n	</ul>\n	</li>\n</ul>\n\n<p><em>*Must be 18 years of age to participate in the FREE screening and door prize drawings.&nbsp\;Fasting is not required\, but some may prefer to.</em></p>\n\n<p><strong>Registration is required for participation in this event. Register by visiting the link or calling 812-663-1279 and leave a message.</strong></p>\n
LOCATION:
UID:e.1535.4147
SEQUENCE:3
DTSTAMP:20260423T074048Z
URL:https://www.greensburgchamber.com/events/details/2025-men-s-health-tailgate-4147
END:VEVENT

END:VCALENDAR
