BEGIN:VCALENDAR
VERSION:2.0
PRODID:-//ChamberMaster//Event Calendar 2.0//EN
METHOD:PUBLISH
X-PUBLISHED-TTL:P3D
REFRESH-INTERVAL:P3D
CALSCALE:GREGORIAN
BEGIN:VEVENT
DTSTART:20260701T160000Z
DTEND:20260701T200000Z
X-MICROSOFT-CDO-ALLDAYEVENT:FALSE
SUMMARY:2026 BLS CPR Class
DESCRIPTION:Decatur County Memorial Hospital will be offering CPR classes for first responders and health care providers available to the public in conjunction with the Decatur County YMCA. All classes are American Heart Association BLS courses. All attendees will receive a free Decatur County YMCA guest pass after the class. For questions or for more information\, please call 812-663-1177.\n\nThis class is intended for first responders\, police\, and health care providers. This IS NOT the correct course for teachers\, day care providers\, or other lay providers\n\nThe American Heart Association strongly promotes knowledge and proficiency in all AHA courses and has developed instructional materials for this purpose. Use of these materials in an educational course does not represent course sponsorship by the AHA. Any fee charged for such a course\, except for a portion of fees needed for the AHA course materials\, do not represent income to the AHA.
X-ALT-DESC;FMTTYPE=text/html:<p>Decatur County Memorial Hospital will be offering CPR classes for&nbsp\;<strong>first responders</strong>&nbsp\;and&nbsp\;<strong>health care providers</strong>&nbsp\;available to the public in conjunction with the&nbsp\;<a href="https://decaturcountyfamilyymca.org/" style="box-sizing: border-box\; margin: 0px\; padding: 0px\; border: 0px\; outline: 0px\; text-size-adjust: 100%\; vertical-align: baseline\; background: transparent\; color: rgb(0\, 0\, 0)\; text-decoration-line: none\;" target="_blank"><strong>Decatur County YMCA</strong></a>. All classes are&nbsp\;<strong>American Heart Association BLS courses</strong>. All attendees will receive a&nbsp\;<strong>free Decatur County YMCA guest pass</strong>&nbsp\;after the class. For questions or for more information\, please call&nbsp\;<a href="tel:8126631777" style="box-sizing: border-box\; margin: 0px\; padding: 0px\; border: 0px\; outline: 0px\; text-size-adjust: 100%\; vertical-align: baseline\; background: transparent\; color: rgb(0\, 0\, 0)\; text-decoration-line: none\;">812-663-1177.</a></p>\n\n<p><span style="color:rgb(255\, 0\, 0)"><strong>This class is intended for first responders\, police\, and health care providers. This IS NOT the correct course for teachers\, day care providers\, or other lay providers</strong></span></p>\n\n<div><em>The American Heart Association strongly promotes knowledge and proficiency in all AHA courses and has developed instructional materials for this purpose. Use of these materials in an educational course does not represent course sponsorship by the AHA. Any fee charged for such a course\, except for a portion of fees needed for the AHA course materials\, do not represent income to the AHA.</em></div>\n
LOCATION:HealthConnect 1 YMCA Way Greensburg\, IN 47240
UID:e.1535.4264
SEQUENCE:3
DTSTAMP:20260423T030711Z
URL:https://www.greensburgchamber.com/events/details/2026-bls-cpr-class-07-01-2026-4264
END:VEVENT

END:VCALENDAR
