BEGIN:VCALENDAR
VERSION:2.0
PRODID:-//ChamberMaster//Event Calendar 2.0//EN
METHOD:PUBLISH
X-PUBLISHED-TTL:P3D
REFRESH-INTERVAL:P3D
CALSCALE:GREGORIAN
BEGIN:VEVENT
DTSTART:20260926T140000Z
DTEND:20260926T170000Z
X-MICROSOFT-CDO-ALLDAYEVENT:FALSE
SUMMARY:2026 Prenatal / Breastfeeding Class
DESCRIPTION:At the Women's Center\, our team provides support for every step of your pregnancy with free Prenatal and Breastfeeding Classes. These classes are designed to empower expectant parents and their birth partners with the knowledge and skills needed for a positive labor & delivery and breastfeeding experience.\n\nPrenatal Classes: During the free classes you'll receive comprehensive pregnancy support and learn relaxation and breathing techniques for labor which helps expectant parents and their support person(s) prepare for childbirth. These classes offer a wonderful opportunity to build confidence\, bond\, and explore the birthing center\, helping you feel prepared and at ease before delivery.\n\nBreastfeeding Classes: During these free classes you'll learn the benefits of breast milk\, how to start breastfeeding\, ways to prevent common issues\, enhance your ability to develop a successful breastfeeding relationship\, and receive guidance for accommodating breastfeeding during work or school schedules.\n\nCall the Women's Center at (812) 663-1240 to register or go to dcmh.net/health-services/womens-services/ob-maternity/.
X-ALT-DESC;FMTTYPE=text/html:<p>At the Women&rsquo\;s Center\, our team provides support for every step of your pregnancy with free Prenatal and Breastfeeding Classes. These classes are designed to empower expectant parents and their birth partners with the knowledge and skills needed for a positive labor &amp\; delivery and breastfeeding experience.</p>\n\n<p><strong>Prenatal Classes:</strong>&nbsp\;During the free classes you&rsquo\;ll receive comprehensive pregnancy support and learn relaxation and breathing techniques for labor which helps expectant parents and their support person(s) prepare for childbirth. These classes offer a wonderful opportunity to build confidence\, bond\, and explore the birthing center\, helping you feel prepared and at ease before delivery.</p>\n\n<p><strong>Breastfeeding Classes:</strong>&nbsp\;During these free classes you&rsquo\;ll learn the benefits of breast milk\, how to start breastfeeding\, ways to prevent common issues\, enhance your ability to develop a successful breastfeeding relationship\, and receive guidance for accommodating breastfeeding during work or school schedules.</p>\n\n<p>Call the Women&rsquo\;s Center at&nbsp\;<a href="tel:8126631240" style="box-sizing: border-box\; text-decoration-line: none\; margin: 0px\; padding: 0px\; border: 0px\; outline: 0px\; text-size-adjust: 100%\; vertical-align: baseline\; background: transparent\; color: rgb(57\, 192\, 224)\;">(812) 663-1240</a>&nbsp\;to register or go to&nbsp\;<a href="https://www.dcmh.net/health-services/womens-services/ob-maternity/" style="box-sizing: border-box\; text-decoration-line: none\; margin: 0px\; padding: 0px\; border: 0px\; outline: 0px\; text-size-adjust: 100%\; vertical-align: baseline\; background: transparent\; color: rgb(57\, 192\, 224)\;">dcmh.net/health-services/womens-services/ob-maternity/.</a></p>\n
LOCATION:DCMH OB Conference Room 720 N. Lincoln St.\, Greensburg\, IN 47240
UID:e.1535.4196
SEQUENCE:3
DTSTAMP:20260423T060804Z
URL:https://www.greensburgchamber.com/events/details/2026-prenatal-breastfeeding-class-09-26-2026-4196
END:VEVENT

END:VCALENDAR
