BEGIN:VCALENDAR
VERSION:2.0
PRODID:-//ChamberMaster//Event Calendar 2.0//EN
METHOD:PUBLISH
X-PUBLISHED-TTL:P3D
REFRESH-INTERVAL:P3D
CALSCALE:GREGORIAN
BEGIN:VEVENT
DTSTART:20251106T150000Z
DTEND:20251106T200000Z
X-MICROSOFT-CDO-ALLDAYEVENT:FALSE
SUMMARY:Battle of the Badges--DCMH
DESCRIPTION:Decatur County EMS is competing in a Battle of the Badges: Blood Drive event against local first responders & health care workers.\n\nThis friendly competition is designed to make life-saving impacts & support Decatur County EMS by winning bragging rights for most units collected.\n\nHere's How You Can Help!\n\n\n	How: Donate Blood in Honor of Decatur County EMS at the American Red Cross Blood Drive\n	When: Thursday\, November 6\, 2025\n	Time: 10 AM   3 PM\n	Where: Decatur County Health Department | 315 S. Ireland St.\, Greensburg\n	Register Now!\n\n\nFor Questions or Registration Help\n\n\n	Contact Debbie Hernandez at the Decatur County Sheriff's Department | 812-663-8125\n\n\nLet's rally behind Decatur County EMS and help them claim victory in the Battle of the Badges!
X-ALT-DESC;FMTTYPE=text/html:<p><strong>Decatur County EMS</strong>&nbsp\;is competing in a&nbsp\;<strong>Battle of the Badges: Blood Drive</strong>&nbsp\;event against local first responders &amp\; health care workers.</p>\n\n<p>This friendly competition is designed to make life-saving impacts &amp\; support Decatur County EMS by winning bragging rights for most units collected.</p>\n\n<h3><strong>Here&rsquo\;s How You Can Help!</strong></h3>\n\n<ul>\n	<li><strong>How: Donate Blood</strong>&nbsp\;in Honor of&nbsp\;<strong>Decatur County EMS</strong>&nbsp\;at the American Red Cross Blood Drive</li>\n	<li><strong>When:</strong>&nbsp\;Thursday\, November 6\, 2025</li>\n	<li><strong>Time:</strong>&nbsp\;10 AM &ndash\; 3 PM</li>\n	<li><strong>Where:</strong>&nbsp\;<a href="https://www.dcmh.net/venue/decatur-county-health-department/" style="box-sizing: border-box\; margin: 0px\; padding: 0px\; border: 0px\; outline: 0px\; text-size-adjust: 100%\; vertical-align: baseline\; background: transparent\; color: rgb(0\, 0\, 0)\; text-decoration-line: none\;"><strong>Decatur County Health Department</strong></a>&nbsp\;| 315 S. Ireland St.\, Greensburg</li>\n	<li><a href="https://www.redcrossblood.org/give.html/drive-results?order=DATE&amp\;range=10&amp\;zipSponsor=decaturdoh" style="box-sizing: border-box\; margin: 0px\; padding: 0px\; border: 0px\; outline: 0px\; text-size-adjust: 100%\; vertical-align: baseline\; background: transparent\; color: rgb(0\, 0\, 0)\; text-decoration-line: none\;" target="_blank"><strong>Register</strong></a>&nbsp\;Now!</li>\n</ul>\n\n<h3><strong>For Questions or Registration Help</strong></h3>\n\n<ul>\n	<li>Contact&nbsp\;<strong>Debbie Hernandez</strong>&nbsp\;at the&nbsp\;<strong>Decatur County Sheriff&rsquo\;s Department |</strong>&nbsp\;<a href="tel:8126638125" style="box-sizing: border-box\; margin: 0px\; padding: 0px\; border: 0px\; outline: 0px\; text-size-adjust: 100%\; vertical-align: baseline\; background: transparent\; color: rgb(0\, 0\, 0)\; text-decoration-line: none\;">812-663-8125</a></li>\n</ul>\n\n<p>Let&rsquo\;s rally behind&nbsp\;<strong>Decatur County EMS</strong>&nbsp\;and help them claim victory in the&nbsp\;<strong>Battle of the Badges</strong>!</p>\n
LOCATION:Decatur County Health Department 315 S Ireland St. Greensburg\, IN 47240
UID:e.1535.4148
SEQUENCE:3
DTSTAMP:20260423T074302Z
URL:https://www.greensburgchamber.com/events/details/battle-of-the-badges-dcmh-4148
END:VEVENT

END:VCALENDAR
