BEGIN:VCALENDAR
VERSION:2.0
PRODID:-//ChamberMaster//Event Calendar 2.0//EN
METHOD:PUBLISH
X-PUBLISHED-TTL:P3D
REFRESH-INTERVAL:P3D
CALSCALE:GREGORIAN
BEGIN:VEVENT
DTSTART:20251120T210000Z
DTEND:20251121T010000Z
X-MICROSOFT-CDO-ALLDAYEVENT:FALSE
SUMMARY:Champions of Youth- Dairy Queen Greensburg Dine for Youth
DESCRIPTION:On Thursday\, November 20th\, you can support Champions of Youth by dining at Dairy Queen in Greensburg anytime between 4:00 pm and 8:00 pm. When you do\, 10% of your bill will be donated to Champions of Youth when you order!
X-ALT-DESC;FMTTYPE=text/html:<span style="background-color:rgb(255\, 255\, 255)\; color:rgb(51\, 51\, 51)\; font-family:oxygen\,sans-serif\; font-size:20px">On Thursday\, November 20th\, you can support Champions of Youth by dining at Dairy Queen in Greensburg anytime between 4:00 pm and 8:00 pm. When you do\, 10% of your bill will be donated to Champions of Youth when you order!</span>
LOCATION:Dairy Queen Greensburg 403 E Freeland Rd Greensburg\, IN 47240
UID:e.1535.4164
SEQUENCE:3
DTSTAMP:20260423T092748Z
URL:https://www.greensburgchamber.com/events/details/champions-of-youth-dairy-queen-greensburg-dine-for-youth-4164
END:VEVENT

END:VCALENDAR
