BEGIN:VCALENDAR
VERSION:2.0
PRODID:-//ChamberMaster//Event Calendar 2.0//EN
METHOD:PUBLISH
X-PUBLISHED-TTL:P3D
REFRESH-INTERVAL:P3D
CALSCALE:GREGORIAN
BEGIN:VEVENT
DTSTART:20260319T140000Z
DTEND:20260319T230000Z
X-MICROSOFT-CDO-ALLDAYEVENT:FALSE
SUMMARY:Dog-Eared Pages: Chapter One Complete!
DESCRIPTION:On March 19th\, Dog-Eared Pages turns ONE.\n\n \n\nOne year of stories.\n\nOne year of community.\n\nOne year of YOU choosing to shop local.\n\n \n\nWe are celebrating in a BIG way - and you're invited.\n\n \n\nALL DAY ANNIVERSARY SPECIALS\n\n\n	Spend & Save deals\n	Anniversary Giveaways\n	Surprise specials throughout the store\n	Free gift for the first 19 customers\n\nThen join us from 5:00-7:00pm for an after-hours celebration with party vibes\, photos\, and a short thank-you moment as we close out Chapter One together.\n\nThis year has meant more than I can put into words. Whether you've shopped once\, every week\, or simply cheered us on - you are a part of this story.\n\n \n\nLet's pack the store.\n\nLet's celebrate local.\n\nLet's start Year Two strong.\n\n \n\nMarch 19\, 2026\n\n10:00am - 7:00pm\n\n\n\nDog-Eared Pages\n\n114 S. Franklin Street\, Ste 1\n\nGreensburg\, IN 47240\n\n \n\nMark your calendar and tag your bookstore bestie.
X-ALT-DESC;FMTTYPE=text/html:<div>On March 19th\, Dog-Eared Pages turns ONE.<br />\n&nbsp\;</div>\n\n<div>One year of stories.<br />\nOne year of community.<br />\nOne year of YOU choosing to shop local.<br />\n&nbsp\;</div>\n\n<div>We are celebrating in a BIG way - and you&#39\;re invited.<br />\n&nbsp\;</div>\n\n<div><strong>ALL DAY ANNIVERSARY SPECIALS</strong></div>\n\n<ul>\n	<li>Spend &amp\; Save deals</li>\n	<li>Anniversary Giveaways</li>\n	<li>Surprise specials throughout the store</li>\n	<li>Free gift for the first 19 customers</li>\n</ul>\nThen join us from 5:00-7:00pm for an after-hours celebration with party vibes\, photos\, and a short thank-you moment as we close out Chapter One together.\n\n<div>This year has meant more than I can put into words. Whether you&#39\;ve shopped once\, every week\, or simply cheered us on - you are a part of this story.<br />\n&nbsp\;</div>\n\n<div>Let&#39\;s pack the store.<br />\nLet&#39\;s celebrate local.<br />\nLet&#39\;s start Year Two strong.<br />\n&nbsp\;</div>\n\n<div>March 19\, 2026<br />\n10:00am - 7:00pm<br />\n<br />\nDog-Eared Pages<br />\n114 S. Franklin Street\, Ste 1<br />\nGreensburg\, IN 47240<br />\n&nbsp\;</div>\n\n<div>Mark your calendar and tag your bookstore bestie.</div>\n
LOCATION:Dog-Eared Pages 114 S. Franklin Street\, Ste 1 Greensburg\, IN 47240
UID:e.1535.4340
SEQUENCE:3
DTSTAMP:20260422T235802Z
URL:https://www.greensburgchamber.com/events/details/dog-eared-pages-chapter-one-complete-4340
END:VEVENT

END:VCALENDAR
