BEGIN:VCALENDAR
VERSION:2.0
PRODID:-//ChamberMaster//Event Calendar 2.0//EN
METHOD:PUBLISH
X-PUBLISHED-TTL:P3D
REFRESH-INTERVAL:P3D
CALSCALE:GREGORIAN
BEGIN:VEVENT
DTSTART:20260213T210000Z
DTEND:20260214T000000Z
X-MICROSOFT-CDO-ALLDAYEVENT:FALSE
SUMMARY:Galentine's Day Permanent Jewelry Pop-up at Dog-Eared Pages
DESCRIPTION:Grab your gals and head down to Dog-Eared pages to celebrate friendship with permanent jewelry and a good read! Each permanent jewelry purchase comes with a complimentary long-stem rose.\n\n \n\nGuys\, this pop-up isn't just for friends. Treat your special someone to a beautiful piece of jewelry they will wear every day!
X-ALT-DESC;FMTTYPE=text/html:<div>Grab your gals and head down to Dog-Eared pages to celebrate friendship with permanent jewelry and a good read! Each permanent jewelry purchase comes with a complimentary long-stem rose.<br />\n&nbsp\;</div>\n\n<div>Guys\, this pop-up isn&#39\;t just for friends. Treat your special someone to a beautiful piece of jewelry they will wear every day!</div>\n
LOCATION:114 S Franklin St Greensburg\, IN 47240
UID:e.1535.4295
SEQUENCE:3
DTSTAMP:20260423T032116Z
URL:https://www.greensburgchamber.com/events/details/galentine-s-day-permanent-jewelry-pop-up-at-dog-eared-pages-4295
END:VEVENT

END:VCALENDAR
