BEGIN:VCALENDAR
VERSION:2.0
PRODID:-//ChamberMaster//Event Calendar 2.0//EN
METHOD:PUBLISH
X-PUBLISHED-TTL:P3D
REFRESH-INTERVAL:P3D
CALSCALE:GREGORIAN
BEGIN:VEVENT
DTSTART:20260410T170000Z
DTEND:20260410T180000Z
X-MICROSOFT-CDO-ALLDAYEVENT:FALSE
SUMMARY:Genealogy Junction at Batesville Library
DESCRIPTION:Gather each month with other like-minded family history enthusiasts. Each month we will explore a different topic.\n\nThis month: We will discuss how to create a system that will help you organize your family history files. We will have a short slide presentation. Participants may then share amongst the group their own best practices. Bring your binders\, files or computer to share.\n\nThis FREE program is for Adults.\n\nREGISTRATION IS REQUIRED.
X-ALT-DESC;FMTTYPE=text/html:<h2>Gather each month with other like-minded family history enthusiasts. Each month we will explore a different topic.</h2>\n\n<h2>This month:&nbsp\;<strong>We will discuss how to create a system that will help you organize your family history files. We will have a short slide presentation. Participants may then share amongst the group their own best practices. Bring your binders\, files or computer to share.</strong></h2>\n\n<h2>This FREE program is for Adults.</h2>\n\n<h2>REGISTRATION IS REQUIRED.</h2>\n
LOCATION:Batesville Memorial Public Library 131 N Walnut St Batesville\, IN. 47006
UID:e.1535.4337
SEQUENCE:3
DTSTAMP:20260423T000041Z
URL:https://www.greensburgchamber.com/events/details/genealogy-junction-at-batesville-library-4337
END:VEVENT

END:VCALENDAR
