BEGIN:VCALENDAR
VERSION:2.0
PRODID:-//ChamberMaster//Event Calendar 2.0//EN
METHOD:PUBLISH
X-PUBLISHED-TTL:P3D
REFRESH-INTERVAL:P3D
CALSCALE:GREGORIAN
BEGIN:VEVENT
DTSTART:20260122T163000Z
DTEND:20260122T180000Z
X-MICROSOFT-CDO-ALLDAYEVENT:FALSE
SUMMARY:HR Power Hour: All About the IDOL
DESCRIPTION:HR POWER HOUR\n\n \n\nIndiana Department of Labor\n\n \n\nJoin us for an HR Power Hour Kenneth Boucher of the Indiana Department of Labor as he share updates on the topics of INSafe\, Youth Employment\, Wage & Hour\, IOSHA\, and IDOL. The Indiana Department of Labor's mission is to advance the safety\, health\, and prosperity of Hoosiers in the workplace.\n\n\n\nIndiana Department of Labor - representatives:\n\n- Kenneth Boucher II\, Deputy Commissioner of Labor - IOSHA\n\n\n- Kulbinder (Kelly) Bains\, Deputy Commissioner of IOSHA\n\n\n\n \n\n\n\nLunch is sponsored by River Metals Recycling\n\n \n\nLunch is included! The general public is welcome to attend.\n\nYou MUST RSVP as there is limited seating.\n\n\n\nMember: $20 | Non-Member: $25\n\n\n\n***Due to limited seating & a catered lunch\, there are NO CANCELLATIONS accepted. If you are unable to attend\, please notify the GDC Chamber of Commerce 24+ hours prior to the event\, or notify us of an attendee replacing your spot. No refunds.***
X-ALT-DESC;FMTTYPE=text/html:<div style="color: rgb(51\, 51\, 51)\; background-color: rgb(255\, 255\, 255)\; font-family: &quot\;Open Sans&quot\;\, sans-serif\; font-size: 12px\; white-space: pre-wrap\; text-align: center\;"><span style="font-family: arial\; font-size: 14px\; text-align: center\; white-space: pre-wrap\;">&nbsp\;</span><br />\n<span style="color:#B45108\;"><span style="font-size: 24px\; font-family: Tahoma\, Geneva\, sans-serif\; font-weight: bold\;">HR POWER HOUR</span></span></div>\n\n<div style="color: rgb(51\, 51\, 51)\; background-color: rgb(255\, 255\, 255)\; font-family: &quot\;Open Sans&quot\;\, sans-serif\; font-size: 12px\; white-space: pre-wrap\; text-align: center\;">&nbsp\;</div>\n\n<div style="color: rgb(51\, 51\, 51)\; background-color: rgb(255\, 255\, 255)\; font-family: &quot\;Open Sans&quot\;\, sans-serif\; font-size: 12px\; white-space: pre-wrap\; text-align: center\;"><span style="color:#122B49\;"><span style="font-size: 24px\; font-family: Tahoma\, Geneva\, sans-serif\; font-weight: bold\;">Indiana Department of Labor</span></span></div>\n\n<div style="color: rgb(51\, 51\, 51)\; background-color: rgb(255\, 255\, 255)\; font-family: &quot\;Open Sans&quot\;\, sans-serif\; font-size: 12px\; white-space: pre-wrap\; text-align: center\;">&nbsp\;</div>\n\n<div style="color: rgb(51\, 51\, 51)\; font-size: 13px\; background-color: rgb(255\, 255\, 255)\; white-space: pre-wrap\; text-align: center\;"><span style="font-family: arial\; font-size: 14px\; text-align: center\; white-space: pre-wrap\;">Join us for an HR Power Hour Kenneth Boucher of the Indiana Department of Labor as he share updates on the topics of INSafe\, Youth Employment\, Wage &amp\; Hour\, IOSHA\, and IDOL. The Indiana Department of Labor&#39\;s mission is to advance the safety\, health\, and prosperity of Hoosiers in the workplace.</span><br />\n<br />\n<span style="font-size:14px\;"><font face="arial"><span style="font-size:16px\;"><strong>Indiana Department of Labor - representatives:</strong></span><br />\n- Kenneth Boucher II\, Deputy Commissioner of Labor - IOSHA</font></span>\n\n<div class="x14z9mp xat24cr x1lziwak x1vvkbs xtlvy1s x126k92a" style="white-space: pre-wrap\; overflow-wrap: break-word\; margin-top: 0.5em\; margin-inline: 0px\; margin-bottom: 0px\; font-family: system-ui\, -apple-system\, BlinkMacSystemFont\, &quot\;.SFNSText-Regular&quot\;\, sans-serif\; caret-color: rgb(8\, 8\, 9)\; color: rgb(8\, 8\, 9)\; font-size: 15px\;">\n<div dir="auto" style="font-family: inherit\;">- Kulbinder (Kelly) Bains\, Deputy Commissioner of IOSHA</div>\n</div>\n\n<div class="x14z9mp xat24cr x1lziwak x1vvkbs xtlvy1s x126k92a" style="white-space: pre-wrap\; overflow-wrap: break-word\; margin-top: 0.5em\; margin-inline: 0px\; margin-bottom: 0px\; font-family: system-ui\, -apple-system\, BlinkMacSystemFont\, &quot\;.SFNSText-Regular&quot\;\, sans-serif\; caret-color: rgb(8\, 8\, 9)\; color: rgb(8\, 8\, 9)\; font-size: 15px\;">\n<div dir="auto" style="font-family: inherit\;">&nbsp\;</div>\n</div>\n<br style="caret-color: rgb(0\, 0\, 0)\; color: rgb(0\, 0\, 0)\;" />\n<span style="font-size:16px\;">Lunch is sponsored by <strong>River Metals Recycling</strong></span><br />\n&nbsp\;</div>\n\n<div style="color: rgb(51\, 51\, 51)\; font-size: 13px\; background-color: rgb(255\, 255\, 255)\; white-space: pre-wrap\; text-align: center\;"><span style="font-size:14px\;"><font face="arial">Lunch is included! The general public is welcome to attend.<br />\nYou <span style="color:#B45108\;"><u><strong>MUST RSVP</strong></u></span> as there is limited seating.</font></span></div>\n\n<div style="color: rgb(51\, 51\, 51)\; font-family: sans-serif\, Arial\, Verdana\, &quot\;Trebuchet MS&quot\;\; font-size: 13px\; background-color: rgb(255\, 255\, 255)\; white-space: pre-wrap\; text-align: center\;"><br />\n<font face="arial"><span style="font-size:14px\;"><span style="color:#B45108\;"><strong>Member:</strong></span> $20 | <span style="color:#B45108\;"><strong>Non-Member:</strong></span> $25</span><br />\n<br />\n<span style="font-size: 12px\;"><span style="color: rgb(255\, 0\, 0)\;"><span style="font-family: tahoma\;">***Due to limited seating &amp\; a catered lunch\, there are NO CANCELLATIONS accepted. If you are unable to attend\, please notify the GDC Chamber of Commerce 24+ hours prior to the event\, or notify us of an attendee replacing your spot. No refunds.***</span></span></span></font></div>\n
LOCATION:Greensburg's City Hall | Multi-Purpose Room 314 W. Washington St. Greensburg\, IN 47240
UID:e.1535.4296
SEQUENCE:3
DTSTAMP:20260423T060652Z
URL:https://www.greensburgchamber.com/events/details/hr-power-hour-all-about-the-idol-4296
END:VEVENT

END:VCALENDAR
