BEGIN:VCALENDAR
VERSION:2.0
PRODID:-//ChamberMaster//Event Calendar 2.0//EN
METHOD:PUBLISH
X-PUBLISHED-TTL:P3D
REFRESH-INTERVAL:P3D
CALSCALE:GREGORIAN
BEGIN:VEVENT
DTSTART:20260131T210000Z
DTEND:20260131T230000Z
X-MICROSOFT-CDO-ALLDAYEVENT:FALSE
SUMMARY:Macrame Plant Hanger Workshop
DESCRIPTION:Join us for a relaxing and creative evening surrounded by greenery as we make beautiful macrame plant hangers together! Whether you're new to macrame or have some experience\, this hands-on workshop is perfect for all skill levels.\n\nI'll guide you step-by-step through the process\, and by the end\, you'll have your own handmade plant hanger ready to display your favorite plant! All materials will be provided\, and you'll get to enjoy the cozy atmosphere of Knot & Vine Plant Shop while you create.\n\nBring a friend or two and enjoy a fun night of crafting\, conversation\, and plants!\n\n\n\nRSVP here https://square.link/u/4cOQ3x8J
X-ALT-DESC;FMTTYPE=text/html:<p>Join us for a relaxing and creative evening surrounded by greenery as we make beautiful macrame plant hangers together! Whether you&rsquo\;re new to macrame or have some experience\, this hands-on workshop is perfect for all skill levels.</p>\n\n<p>I&rsquo\;ll guide you step-by-step through the process\, and by the end\, you&rsquo\;ll have your own handmade plant hanger&mdash\;ready to display your favorite plant! All materials will be provided\, and you&rsquo\;ll get to enjoy the cozy atmosphere of Knot &amp\; Vine Plant Shop while you create.</p>\n\n<p>Bring a friend or two and enjoy a fun night of crafting\, conversation\, and plants!<br />\n<br />\nRSVP here&nbsp\;https://square.link/u/4cOQ3x8J</p>\n
LOCATION:Knot & Vine Plant Shop 343 Washington St. Hope\, IN 47246
UID:e.1535.4294
SEQUENCE:3
DTSTAMP:20260423T060308Z
URL:https://www.greensburgchamber.com/events/details/macrame-plant-hanger-workshop-4294
END:VEVENT

END:VCALENDAR
