BEGIN:VCALENDAR
VERSION:2.0
PRODID:-//ChamberMaster//Event Calendar 2.0//EN
METHOD:PUBLISH
X-PUBLISHED-TTL:P3D
REFRESH-INTERVAL:P3D
CALSCALE:GREGORIAN
BEGIN:VEVENT
DTSTART:20251211T160000Z
DTEND:20251211T220000Z
X-MICROSOFT-CDO-ALLDAYEVENT:FALSE
SUMMARY:Meet Buddy the Elf at Candyland Creations and More!
DESCRIPTION:Candyland Creations and More Meet Buddy the Elf!\n\nThe sweetest season of the year is here and we're celebrating in true Candyland style!\n\n\n\nJoin us on Thursday\, December 11th from 11 AM   5 PM for a magical day of holiday cheer\, chocolate\, and festive fun! \n\n\n\nFree Chocolate Samplings   indulge in our handmade holiday favorites. \n\nDiscounted Gift Baskets   the perfect present for anyone on your list.\n\nStocking Stuffer Ideas   sweet surprises for every age.\n\nGiveaways\, Treats\, and More!\n\n\n\nIt's the perfect way to kick off your holiday shopping season   full of joy\, laughter\, and of course\, lots of chocolate!
X-ALT-DESC;FMTTYPE=text/html:Candyland Creations and More Meet Buddy the Elf!<br />\nThe sweetest season of the year is here and we&rsquo\;re celebrating in true Candyland style!<br />\n<br />\nJoin us on Thursday\, December 11th from 11 AM &ndash\; 5 PM for a magical day of holiday cheer\, chocolate\, and festive fun!&nbsp\;<br />\n<br />\nFree Chocolate Samplings &ndash\; indulge in our handmade holiday favorites.&nbsp\;<br />\nDiscounted Gift Baskets &ndash\; the perfect present for anyone on your list.<br />\nStocking Stuffer Ideas &ndash\; sweet surprises for every age.<br />\nGiveaways\, Treats\, and More!<br />\n<br />\nIt&rsquo\;s the perfect way to kick off your holiday shopping season &mdash\; full of joy\, laughter\, and of course\, lots of chocolate!
LOCATION:209 S. Main St.\, Batesville\, IN 47006
UID:e.1535.4162
SEQUENCE:3
DTSTAMP:20260423T060846Z
URL:https://www.greensburgchamber.com/events/details/meet-buddy-the-elf-at-candyland-creations-and-more-4162
END:VEVENT

END:VCALENDAR
