BEGIN:VCALENDAR
VERSION:2.0
PRODID:-//ChamberMaster//Event Calendar 2.0//EN
METHOD:PUBLISH
X-PUBLISHED-TTL:P3D
REFRESH-INTERVAL:P3D
CALSCALE:GREGORIAN
BEGIN:VEVENT
DTSTART:20251213T150000Z
DTEND:20251213T170000Z
X-MICROSOFT-CDO-ALLDAYEVENT:FALSE
SUMMARY:Resource Rally
DESCRIPTION:This event will provide free distribution of food\, hygiene products\, personal care items\, and children's books/toys to 400 families in need.\n\n\n\nTo participate\, families just need to contact Greensburg Community Bread of Life via phone or email (812-663-1055 or greensburgbreadoflife@etczone.com)\, and we will get them a voucher that each family will exchange at the drive-thru resource giveaway on December 13th.\n\n \n\n The rally\, held at Bread of Life's building at 720 Randall St.\, is a partnership between Feed the Children\, Honda\, and Greensburg Community Bread of Life to get resources to families in time for the holidays.
X-ALT-DESC;FMTTYPE=text/html:<span style="font-size:11.0pt">This event will provide free distribution of food\, hygiene products\, personal care items\, and children&rsquo\;s books/toys to 400 families in need.<br />\n<br />\nTo participate\, families just need to contact Greensburg Community Bread of Life via phone or email (812-663-1055 or <a href="mailto:greensburgbreadoflife@etczone.com">greensburgbreadoflife@etczone.com</a>)\, and we will get them a voucher that each family will exchange at the drive-thru resource giveaway on December 13<sup>th</sup>.</span><br />\n&nbsp\;<br />\n<span style="font-size:11.0pt">&nbsp\;The rally\, held at Bread of Life&rsquo\;s building at 720 Randall St.\, is a partnership between Feed the Children\, Honda\, and Greensburg Community Bread of Life to get resources to families in time for the holidays.</span><br />\n<br />\n&nbsp\;
LOCATION:720 E Randall St. Greensburg\, IN 47240
UID:e.1535.4163
SEQUENCE:3
DTSTAMP:20260423T060416Z
URL:https://www.greensburgchamber.com/events/details/resource-rally-4163
END:VEVENT

END:VCALENDAR
