BEGIN:VCALENDAR
VERSION:2.0
PRODID:-//ChamberMaster//Event Calendar 2.0//EN
METHOD:PUBLISH
X-PUBLISHED-TTL:P3D
REFRESH-INTERVAL:P3D
CALSCALE:GREGORIAN
BEGIN:VEVENT
DTSTART:20260213T203000Z
DTEND:20260213T210000Z
X-MICROSOFT-CDO-ALLDAYEVENT:FALSE
SUMMARY:RIBBON CUTTING x Copper Coyote
DESCRIPTION:JOIN US!\n\nCopper Coyote\n\nRibbon Cutting\n\n\n\nFriday\, February 13th | 3:30 PM - 4 PM\n\nDog-Eared Pages\n\n114 S. Franklin St.\, Suite 1 | Greensburg\, IN 47240\n\n\nThe GDC Chamber of Commerce is excited to celebrate Copper Coyote with an official Ribbon Cutting!\n\nCopper Coyote has been serving the community since May 2025\, and we can't wait to celebrate this milestone and their growth!\n\nJoin us on February 13 (yes Friday the 13th!) during the Copper Coyote pop-up for the official ribbon cutting. There is no obligation to make a purchase just come out\, say hello\, and help us celebrate this meaningful moment as the business continues toward thoughtful and intentional growth.\n\n  Dog-Eared Pages\n\n  3:30 PM\n\nWe hope to see you there!
X-ALT-DESC;FMTTYPE=text/html:<div align="center" background-color:="" font-size:="" style="color: rgb(51\, 51\, 51)\; font-family: sans-serif\, Arial\, Verdana\, " text-align:="" trebuchet=""><span style="font-family:arial\;"><span style="font-size:26px\;"><span style="color:#518F96\;"><span style="font-weight: 700\; text-align: center\; background-color: rgb(255\, 255\, 255)\;">JOIN US!</span></span></span><br />\n<span style="font-size:26px\;"><span style="color:#B45108\;"><b>Copper Coyote</b></span></span></span><br />\n<span style="font-size:22px\;"><span style="color: rgb(4\, 36\, 77)\; font-family: Arial\, Verdana\, Helvetica\, sans-serif\; font-weight: 700\; text-align: center\;">Ribbon Cutting</span></span><br />\n<br />\n<span style="font-family:arial\;"><span style="color:#B45108\;"><span style="font-weight: bold\; font-size: 22px\;">Friday\, February 13th | 3:30 PM - 4 PM</span></span><br />\n<span style="color:#518F96\;"><span style="font-size: 22px\; font-weight: bold\;">Dog-Eared Pages</span><br />\n<span style="font-size: 16px\; font-weight: bold\;">114 S. Franklin St.\, Suite 1 | Greensburg\, IN 47240</span></span></span>\n\n<div class="x_elementToProof" data-olk-copy-source="MessageBody" style="border: 0px\; font-variant-numeric: inherit\; font-variant-east-asian: inherit\; font-variant-alternates: inherit\; font-variant-position: inherit\; font-variant-emoji: inherit\; font-stretch: inherit\; font-size: 12pt\; line-height: inherit\; font-family: Aptos\, Aptos_EmbeddedFont\, Aptos_MSFontService\, Calibri\, Helvetica\, sans-serif\; font-optical-sizing: inherit\; font-size-adjust: inherit\; font-kerning: inherit\; font-feature-settings: inherit\; font-variation-settings: inherit\; font-language-override: inherit\; margin: 1em 0px\; padding: 0px\; vertical-align: baseline\; color: rgb(0\, 0\, 0)\;">\n<div class="x_elementToProof" data-olk-copy-source="MessageBody" style="border: 0px\; font-variant-numeric: inherit\; font-variant-east-asian: inherit\; font-variant-alternates: inherit\; font-variant-position: inherit\; font-variant-emoji: inherit\; font-stretch: inherit\; font-size: 12pt\; line-height: inherit\; font-family: Aptos\, Aptos_EmbeddedFont\, Aptos_MSFontService\, Calibri\, Helvetica\, sans-serif\, serif\, EmojiFont\; font-optical-sizing: inherit\; font-size-adjust: inherit\; font-kerning: inherit\; font-feature-settings: inherit\; font-variation-settings: inherit\; font-language-override: inherit\; margin: 1em 0px\; padding: 0px\; vertical-align: baseline\; color: rgb(0\, 0\, 0)\;"><span style="font-size:20px\;"><strong>The GDC Chamber of Commerce is excited to celebrate&nbsp\;Copper Coyote&nbsp\;with an official&nbsp\;Ribbon Cutting!</strong></span></div>\n\n<div class="x_elementToProof" style="border: 0px\; font-variant-numeric: inherit\; font-variant-east-asian: inherit\; font-variant-alternates: inherit\; font-variant-position: inherit\; font-variant-emoji: inherit\; font-stretch: inherit\; font-size: 12pt\; line-height: inherit\; font-family: Aptos\, Aptos_EmbeddedFont\, Aptos_MSFontService\, Calibri\, Helvetica\, sans-serif\, serif\, EmojiFont\; font-optical-sizing: inherit\; font-size-adjust: inherit\; font-kerning: inherit\; font-feature-settings: inherit\; font-variation-settings: inherit\; font-language-override: inherit\; margin: 1em 0px\; padding: 0px\; vertical-align: baseline\; color: rgb(0\, 0\, 0)\;"><span style="font-size:20px\;"><strong><span style="caret-color: rgb(0\, 0\, 0)\; color: rgb(0\, 0\, 0)\;">Copper Coyote has been serving the community since May 2025\, and we can&rsquo\;t wait to celebrate this milestone and their growth!</span></strong></span></div>\n\n<div class="x_elementToProof" style="border: 0px\; font-variant-numeric: inherit\; font-variant-east-asian: inherit\; font-variant-alternates: inherit\; font-variant-position: inherit\; font-variant-emoji: inherit\; font-stretch: inherit\; font-size: 12pt\; line-height: inherit\; font-family: Aptos\, Aptos_EmbeddedFont\, Aptos_MSFontService\, Calibri\, Helvetica\, sans-serif\, serif\, EmojiFont\; font-optical-sizing: inherit\; font-size-adjust: inherit\; font-kerning: inherit\; font-feature-settings: inherit\; font-variation-settings: inherit\; font-language-override: inherit\; margin: 1em 0px\; padding: 0px\; vertical-align: baseline\; color: rgb(0\, 0\, 0)\;"><span style="font-size:20px\;"><strong>Join us on&nbsp\;February 13 (yes&mdash\;Friday the 13th!)&nbsp\;during the Copper Coyote pop-up for the official ribbon cutting. There is no obligation to make a purchase&mdash\;just come out\, say hello\, and help us celebrate this meaningful moment as the business continues toward thoughtful and intentional growth.</strong></span></div>\n\n<div class="x_elementToProof" style="border: 0px\; font-variant-numeric: inherit\; font-variant-east-asian: inherit\; font-variant-alternates: inherit\; font-variant-position: inherit\; font-variant-emoji: inherit\; font-stretch: inherit\; font-size: 12pt\; line-height: inherit\; font-family: Aptos\, Aptos_EmbeddedFont\, Aptos_MSFontService\, Calibri\, Helvetica\, sans-serif\, serif\, EmojiFont\; font-optical-sizing: inherit\; font-size-adjust: inherit\; font-kerning: inherit\; font-feature-settings: inherit\; font-variation-settings: inherit\; font-language-override: inherit\; margin: 1em 0px\; padding: 0px\; vertical-align: baseline\; color: rgb(0\, 0\, 0)\;"><span style="font-size:20px\;"><strong>&#128205\;&nbsp\;Dog-Eared Pages<br />\n&#128350\;&nbsp\;3:30 PM</strong></span></div>\n\n<div class="x_elementToProof" style="border: 0px\; font-variant-numeric: inherit\; font-variant-east-asian: inherit\; font-variant-alternates: inherit\; font-variant-position: inherit\; font-variant-emoji: inherit\; font-stretch: inherit\; font-size: 12pt\; line-height: inherit\; font-family: Aptos\, Aptos_EmbeddedFont\, Aptos_MSFontService\, Calibri\, Helvetica\, sans-serif\, serif\, EmojiFont\; font-optical-sizing: inherit\; font-size-adjust: inherit\; font-kerning: inherit\; font-feature-settings: inherit\; font-variation-settings: inherit\; font-language-override: inherit\; margin: 1em 0px\; padding: 0px\; vertical-align: baseline\; color: rgb(0\, 0\, 0)\;"><span style="font-size:20px\;"><strong>We hope to see you there!</strong></span></div>\n</div>\n</div>\n\n<div align="center" background-color:="" font-size:="" style="color: rgb(51\, 51\, 51)\; font-family: sans-serif\, Arial\, Verdana\, " text-align:="" trebuchet="">\n<div align="center" font-size:="" open="" style="font-family: ">&nbsp\;</div>\n</div>\n
LOCATION:Dog-Eared Pages 114 S. Franklin St.\, Suite 1 | Greensburg\, IN 47240
UID:e.1535.4297
SEQUENCE:3
DTSTAMP:20260423T031901Z
URL:https://www.greensburgchamber.com/events/details/ribbon-cutting-x-copper-coyote-4297
END:VEVENT

END:VCALENDAR
