BEGIN:VCALENDAR
VERSION:2.0
PRODID:-//ChamberMaster//Event Calendar 2.0//EN
METHOD:PUBLISH
X-PUBLISHED-TTL:P3D
REFRESH-INTERVAL:P3D
CALSCALE:GREGORIAN
BEGIN:VEVENT
DTSTART:20260325T160000Z
DTEND:20260325T170000Z
X-MICROSOFT-CDO-ALLDAYEVENT:FALSE
SUMMARY:RIBBON CUTTING x CRF Roofing & Restoration
DESCRIPTION:JOIN US!\n\nCRF Roofing & Restoration\n\nRibbon Cutting\n\n\n\nWednesday\, March 25th | 12:00 PM - 1:00 PM\n\n777 W. Main Street | Greensburg\, IN 47240\n\nThe GDC Chamber of Commerce is excited to celebrate CRF Roofing & Restoration with an official Ribbon Cutting for their NEW LOCATION!\n\n \n\n\n\n\n\n\n\n\n\n\n\n\n\n\n\n\n  777 W. Main St.\, Greensburg\, IN 47240\n\n  Wednesday\, March 25\n\n  12:00 PM\n\nThis company is on the move\, completely committed to their community\, and ready to continue serving Decatur County and the surrounding area from their new location.\n\nCome help us celebrate their growth\, meet the team\, and show your support for a local business that takes pride in quality work and strong community connections.\n\nWe look forward to seeing you there!     \n\n\n\n\n\n\n\n\n\n\n\n\n\n\n\n\n 777 W. Main St. | Greensburg\n\n  12:00 PM\n\nWe hope to see you there!
X-ALT-DESC;FMTTYPE=text/html:<div align="center" background-color:="" font-size:="" text-align:="" trebuchet=""><span style="color: rgb(51\, 51\, 51)\; font-family: arial\;"><span style="font-size:26px\;"><span style="color:#518F96\;"><span style="font-weight: 700\; text-align: center\; background-color: rgb(255\, 255\, 255)\;">JOIN US!</span></span></span></span><br />\n<font color="#b45108"><span style="caret-color: rgb(180\, 81\, 8)\; font-size: 26px\;"><b>CRF Roofing &amp\; Restoration</b></span></font><br />\n<span style="color: rgb(51\, 51\, 51)\; font-size: 22px\;"><span style="color: rgb(4\, 36\, 77)\; font-family: Arial\, Verdana\, Helvetica\, sans-serif\; font-weight: 700\; text-align: center\;">Ribbon Cutting</span></span><br />\n<br />\n<span style="color: rgb(180\, 81\, 8)\; font-family: arial\; font-size: 22px\; font-weight: 700\; text-align: -webkit-center\; caret-color: rgb(180\, 81\, 8)\;">Wednesday\, March 25th | 12:00 PM - 1:00 PM</span><br />\n<span style="color: rgb(81\, 143\, 150)\; font-family: arial\; font-size: 16px\; font-weight: 700\; text-align: -webkit-center\; caret-color: rgb(81\, 143\, 150)\;">777 W. Main Street | Greensburg\, IN 47240</span>\n<div class="x_elementToProof" data-olk-copy-source="MessageBody" style="border: 0px\; font-variant-numeric: inherit\; font-variant-east-asian: inherit\; font-variant-alternates: inherit\; font-variant-position: inherit\; font-width: inherit\; line-height: inherit\; font-optical-sizing: inherit\; font-size-adjust: inherit\; font-kerning: inherit\; font-feature-settings: inherit\; font-variation-settings: inherit\; margin: 1em 0px\; padding: 0px\; vertical-align: baseline\;">\n<div class="x_elementToProof" data-olk-copy-source="MessageBody" style="border: 0px\; font-variant-numeric: inherit\; font-variant-east-asian: inherit\; font-variant-alternates: inherit\; font-variant-position: inherit\; font-width: inherit\; line-height: inherit\; font-optical-sizing: inherit\; font-size-adjust: inherit\; font-kerning: inherit\; font-feature-settings: inherit\; font-variation-settings: inherit\; margin: 1em 0px\; padding: 0px\; vertical-align: baseline\;"><strong><font color="#000000" face="Aptos\, Aptos_EmbeddedFont\, Aptos_MSFontService\, Calibri\, Helvetica\, sans-serif\, serif\, EmojiFont"><span style="font-size: 20px\;">The GDC Chamber of Commerce is excited to celebrate CRF Roofing &amp\; Restoration&nbsp\;with an official&nbsp\;Ribbon Cutting for their NEW LOCATION</span><span style="font-size: 20px\;">!</span></font></strong><br />\n&nbsp\;</div>\n\n<div class="x_elementToProof" style="color: rgb(0\, 0\, 0)\; font-family: Aptos\, Aptos_EmbeddedFont\, Aptos_MSFontService\, Calibri\, Helvetica\, sans-serif\, serif\, EmojiFont\; font-size: 12pt\; border: 0px\; font-variant-numeric: inherit\; font-variant-east-asian: inherit\; font-variant-alternates: inherit\; font-variant-position: inherit\; font-width: inherit\; line-height: inherit\; font-optical-sizing: inherit\; font-size-adjust: inherit\; font-kerning: inherit\; font-feature-settings: inherit\; font-variation-settings: inherit\; margin: 1em 0px\; padding: 0px\; vertical-align: baseline\;">\n<article class="text-token-text-primary w-full focus:outline-none [--shadow-height:45px] has-data-writing-block:pointer-events-none has-data-writing-block:-mt-(--shadow-height) has-data-writing-block:pt-(--shadow-height) [&amp\;:has([data-writing-block])&gt\;*]:pointer-events-auto [content-visibility:auto] supports-[content-visibility:auto]:[contain-intrinsic-size:auto_100lvh] scroll-mt-[calc(var(--header-height)+min(200px\,max(70px\,20svh)))]" data-scroll-anchor="true" data-testid="conversation-turn-2" data-turn="assistant" data-turn-id="request-WEB:cc54dd90-8254-416e-ae9b-4e632880b8e3-0" dir="auto" style="caret-color: rgb(0\, 0\, 0)\; color: rgb(0\, 0\, 0)\;" tabindex="-1">\n<div class="text-base my-auto mx-auto pb-10 [--thread-content-margin:--spacing(4)] @w-sm/main:[--thread-content-margin:--spacing(6)] @w-lg/main:[--thread-content-margin:--spacing(16)] px-(--thread-content-margin)">\n<div class="[--thread-content-max-width:40rem] @w-lg/main:[--thread-content-max-width:48rem] mx-auto max-w-(--thread-content-max-width) flex-1 group/turn-messages focus-visible:outline-hidden relative flex w-full min-w-0 flex-col agent-turn" tabindex="-1">\n<div class="flex max-w-full flex-col grow">\n<div class="min-h-8 text-message relative flex w-full flex-col items-end gap-2 text-start break-words whitespace-normal [.text-message+&amp\;]:mt-1" data-message-author-role="assistant" data-message-id="67215916-edf9-4b0e-807a-58cfcc134e6e" data-message-model-slug="gpt-5-2" dir="auto">\n<div class="flex w-full flex-col gap-1 empty:hidden first:pt-[1px]">\n<div class="markdown prose dark:prose-invert w-full wrap-break-word light markdown-new-styling">\n<article class="text-token-text-primary w-full focus:outline-none [--shadow-height:45px] has-data-writing-block:pointer-events-none has-data-writing-block:-mt-(--shadow-height) has-data-writing-block:pt-(--shadow-height) [&amp\;:has([data-writing-block])&gt\;*]:pointer-events-auto [content-visibility:auto] supports-[content-visibility:auto]:[contain-intrinsic-size:auto_100lvh] scroll-mt-[calc(var(--header-height)+min(200px\,max(70px\,20svh)))]" data-scroll-anchor="true" data-testid="conversation-turn-2" data-turn="assistant" data-turn-id="request-WEB:82747820-6766-41f6-9adc-8bb9faf970f4-0" dir="auto" style="caret-color: rgb(0\, 0\, 0)\; color: rgb(0\, 0\, 0)\;" tabindex="-1">\n<div class="text-base my-auto mx-auto pb-10 [--thread-content-margin:--spacing(4)] @w-sm/main:[--thread-content-margin:--spacing(6)] @w-lg/main:[--thread-content-margin:--spacing(16)] px-(--thread-content-margin)">\n<div class="[--thread-content-max-width:40rem] @w-lg/main:[--thread-content-max-width:48rem] mx-auto max-w-(--thread-content-max-width) flex-1 group/turn-messages focus-visible:outline-hidden relative flex w-full min-w-0 flex-col agent-turn" tabindex="-1">\n<div class="flex max-w-full flex-col grow">\n<div class="min-h-8 text-message relative flex w-full flex-col items-end gap-2 text-start break-words whitespace-normal [.text-message+&amp\;]:mt-1" data-message-author-role="assistant" data-message-id="a7176f06-e6a8-4603-8766-b324736a69c2" data-message-model-slug="gpt-5-2" dir="auto">\n<div class="flex w-full flex-col gap-1 empty:hidden first:pt-[1px]">\n<div class="markdown prose dark:prose-invert w-full wrap-break-word light markdown-new-styling">\n<p data-end="300" data-start="178">&#128205\;&nbsp\;<strong data-end="257" data-start="181">777 W. Main St.\,&nbsp\;<span class="hover:entity-accent entity-underline inline cursor-pointer align-baseline"><span class="whitespace-normal">Greensburg</span></span>\, IN 47240</strong><br data-end="260" data-start="257" />\n&#128467\;&nbsp\;<strong data-end="283" data-start="263">Wednesday\, March 25</strong><br data-end="286" data-start="283" />\n&#9200\;&nbsp\;<strong data-end="300" data-start="288">12:00 PM</strong></p>\n\n<p data-end="326" data-start="162">This company is on the move\, completely committed to their community\, and ready to continue serving Decatur County and the surrounding area from their new location.</p>\n\n<p data-end="489" data-start="328">Come help us celebrate their growth\, meet the team\, and show your support for a local business that takes pride in quality work and strong community connections.</p>\n\n<p data-end="536" data-is-last-node="" data-is-only-node="" data-start="491">We look forward to seeing you there! &#128079\;&#127997\;&#127969\;&#128296\;</p>\n</div>\n</div>\n</div>\n</div>\n</div>\n</div>\n</article>\n</div>\n</div>\n</div>\n</div>\n</div>\n</div>\n</article>\n</div>\n\n<div class="x_elementToProof" style="color: rgb(0\, 0\, 0)\; font-family: Aptos\, Aptos_EmbeddedFont\, Aptos_MSFontService\, Calibri\, Helvetica\, sans-serif\, serif\, EmojiFont\; font-size: 12pt\; border: 0px\; font-variant-numeric: inherit\; font-variant-east-asian: inherit\; font-variant-alternates: inherit\; font-variant-position: inherit\; font-width: inherit\; line-height: inherit\; font-optical-sizing: inherit\; font-size-adjust: inherit\; font-kerning: inherit\; font-feature-settings: inherit\; font-variation-settings: inherit\; margin: 1em 0px\; padding: 0px\; vertical-align: baseline\;"><span style="font-size:20px\;"><strong>&#128205\;</strong></span><span style="color: rgb(81\, 143\, 150)\; font-family: arial\; font-size: 16px\; font-weight: 700\; text-align: -webkit-center\; caret-color: rgb(81\, 143\, 150)\;">777 W. Main St. | Greensburg</span><br />\n<span style="font-size:20px\;"><strong>&#128350\; 12:00 PM</strong></span></div>\n\n<div class="x_elementToProof" style="color: rgb(0\, 0\, 0)\; font-family: Aptos\, Aptos_EmbeddedFont\, Aptos_MSFontService\, Calibri\, Helvetica\, sans-serif\, serif\, EmojiFont\; font-size: 12pt\; border: 0px\; font-variant-numeric: inherit\; font-variant-east-asian: inherit\; font-variant-alternates: inherit\; font-variant-position: inherit\; font-width: inherit\; line-height: inherit\; font-optical-sizing: inherit\; font-size-adjust: inherit\; font-kerning: inherit\; font-feature-settings: inherit\; font-variation-settings: inherit\; margin: 1em 0px\; padding: 0px\; vertical-align: baseline\;"><span style="font-size:20px\;"><strong>We hope to see you there!</strong></span></div>\n</div>\n</div>\n\n<div align="center" background-color:="" font-size:="" style="color: rgb(51\, 51\, 51)\; font-family: sans-serif\, Arial\, Verdana\, " text-align:="" trebuchet="">\n<div align="center" font-size:="" open="" style="font-family: ">&nbsp\;</div>\n</div>\n
LOCATION:777 W. Main St.| Greensburg\, IN 47240
UID:e.1535.4342
SEQUENCE:3
DTSTAMP:20260423T000025Z
URL:https://www.greensburgchamber.com/events/details/ribbon-cutting-x-crf-roofing-restoration-4342
END:VEVENT

END:VCALENDAR
