BEGIN:VCALENDAR
VERSION:2.0
PRODID:-//ChamberMaster//Event Calendar 2.0//EN
METHOD:PUBLISH
X-PUBLISHED-TTL:P3D
REFRESH-INTERVAL:P3D
CALSCALE:GREGORIAN
BEGIN:VEVENT
DTSTART:20260402T150000Z
DTEND:20260402T160000Z
X-MICROSOFT-CDO-ALLDAYEVENT:FALSE
SUMMARY:Ribbon Cutting x Hometown Tanning LLC
DESCRIPTION:JOIN US!\n\nHometown Tanning LLC\n\nRibbon Cutting\n\n\n\nThursday\, April 2nd | 11:00 AM - 12:00 PM\n\n600 Greensburg Common Shopping Center |\n\nGreensburg\, IN 47240\n\n\n\nThe GDC Chamber is proud to officially welcome HOMETOWN TANNING LLC to the Chamber family with a ribbon-cutting celebration for their\n\nNEW BUSINESS! \n\n  600 Greensburg Commons Shopping Center | \n\nGreensburg\, IN 47240\n\n  Thursday\, April 2\n\n  11:00 AM\n\nHometown Tanning offers a clean\, welcoming environment where clients can enjoy professional tanning services close to home. With a focus on customer comfort\, quality equipment\, and a friendly hometown atmosphere\, they are dedicated to helping clients look and feel their best year-round.\n\nWhether you're preparing for a special event\, a vacation\, or simply want to maintain a healthy glow\, Hometown Tanning is proud to provide convenient and reliable tanning services right here in our community\, including tanning beds\, spray tans\, and red light therapy.\n\nWe invite Chamber members\, friends\, and community members to join us as we celebrate this local business and help us welcome Hometown Tanning to Greensburg.\n\n\n\nCome meet the team\, tour the space\, and help us cut the ribbon!    \n\n\n 600 Greensburg Commons Shopping Center\n\n  11:00 AM\n\nWe hope to see you there!
X-ALT-DESC;FMTTYPE=text/html:<div align="center" background-color:="" font-size:="" text-align:="" trebuchet=""><span style="font-family: arial\;"><span style="font-size: 26px\;"><span style="color: rgb(81\, 143\, 150)\;"><span style="font-weight: 700\;">JOIN US!</span></span></span></span><br />\n<font color="#b45108"><span style="caret-color: rgb(180\, 81\, 8)\; font-size: 26px\;"><b>Hometown Tanning LLC</b></span></font><br />\n<span style="font-size: 22px\;"><span style="color: rgb(4\, 36\, 77)\; font-family: Arial\, Verdana\, Helvetica\, sans-serif\; font-weight: 700\;">Ribbon Cutting</span></span><br />\n<br />\n<span style="color: rgb(180\, 81\, 8)\; font-family: arial\; font-size: 22px\; font-weight: 700\; caret-color: rgb(180\, 81\, 8)\;">Thursday\, April 2nd | 11:00 AM - 12:00 PM</span><br />\n<span style="color: rgb(81\, 143\, 150)\; font-family: arial\; font-size: 16px\; font-weight: 700\; caret-color: rgb(81\, 143\, 150)\;">600 Greensburg Common Shopping Center |<br />\nGreensburg\, IN 47240</span>\n\n<div class="x_elementToProof" data-olk-copy-source="MessageBody" style="border: 0px\; font-variant-numeric: inherit\; font-variant-east-asian: inherit\; font-variant-alternates: inherit\; font-variant-position: inherit\; line-height: inherit\; font-optical-sizing: inherit\; font-size-adjust: inherit\; font-kerning: inherit\; font-feature-settings: inherit\; font-variation-settings: inherit\; margin: 1em 0px\; padding: 0px\; vertical-align: baseline\;">\n<div class="x_elementToProof" data-olk-copy-source="MessageBody" style="border: 0px\; font-variant-numeric: inherit\; font-variant-east-asian: inherit\; font-variant-alternates: inherit\; font-variant-position: inherit\; line-height: inherit\; font-optical-sizing: inherit\; font-size-adjust: inherit\; font-kerning: inherit\; font-feature-settings: inherit\; font-variation-settings: inherit\; margin: 1em 0px\; padding: 0px\; vertical-align: baseline\;">\n<p data-end="239" data-start="55" style="caret-color: rgb(0\, 0\, 0)\; color: rgb(0\, 0\, 0)\;"><span style="font-size: 18px\;"><b>The GDC Chamber is proud to officially welcome HOMETOWN TANNING LLC&nbsp\;to the Chamber family with a ribbon-cutting celebration for their<br />\nNEW BUSINESS!&nbsp\;</b></span></p>\n\n<p data-end="358" data-start="241" style="caret-color: rgb(0\, 0\, 0)\; color: rgb(0\, 0\, 0)\;"><span style="font-size: 14px\;">&#128205\;&nbsp\;<strong data-end="315" data-start="244">600 Greensburg Commons Shopping Center |&nbsp\;<br />\n<span class="hover:entity-accent entity-underline inline cursor-pointer align-baseline"><span class="whitespace-normal">Greensburg</span></span>\, IN 47240</strong><br data-end="318" data-start="315" />\n&#128467\;&nbsp\;<strong data-end="342" data-start="321">Thursday\, April 2</strong><br data-end="345" data-start="342" />\n&#9200\; <strong>11</strong><strong data-end="358" data-start="347">:00 AM</strong></span></p>\n\n<p data-end="599" data-start="308"><span style="font-size:14px\;"><strong data-end="328" data-start="308">Hometown Tanning</strong> offers a clean\, welcoming environment where clients can enjoy professional tanning services close to home. With a focus on customer comfort\, quality equipment\, and a friendly hometown atmosphere\, they are dedicated to helping clients look and feel their best year-round.</span></p>\n\n<p data-end="812" data-start="601"><span style="font-size:14px\;">Whether you&#39\;re preparing for a special event\, a vacation\, or simply want to maintain a healthy glow\, <strong data-end="722" data-start="702">Hometown Tanning</strong> is proud to provide convenient and reliable tanning services right here in our community\, including tanning beds\, spray tans\, and red light therapy.</span></p>\n\n<p data-end="1043" data-start="814"><span style="font-size:14px\;">We invite Chamber members\, friends\, and community members to join us as we celebrate this local business and help us welcome <strong data-end="959" data-start="939">Hometown Tanning</strong> to Greensburg.<br />\n<br />\nCome meet the team\, tour the space\, and help us cut the ribbon!</span> &#9986\;&#65039\;&#127881\;</p>\n</div>\n\n<div class="x_elementToProof" style="color: rgb(0\, 0\, 0)\; font-family: Aptos\, Aptos_EmbeddedFont\, Aptos_MSFontService\, Calibri\, Helvetica\, sans-serif\, serif\, EmojiFont\; font-size: 12pt\; border: 0px\; font-variant-numeric: inherit\; font-variant-east-asian: inherit\; font-variant-alternates: inherit\; font-variant-position: inherit\; line-height: inherit\; font-optical-sizing: inherit\; font-size-adjust: inherit\; font-kerning: inherit\; font-feature-settings: inherit\; font-variation-settings: inherit\; margin: 1em 0px\; padding: 0px\; vertical-align: baseline\;"><span style="font-size: 20px\;"><strong>&#128205\;</strong></span><span style="caret-color: rgb(81\, 143\, 150)\; color: rgb(81\, 143\, 150)\; font-family: arial\; font-weight: 700\;">600 Greensburg Commons Shopping Center</span><br />\n<span style="caret-color: rgb(0\, 0\, 0)\; font-size: 14px\;">&#9200\;&nbsp\;</span><strong data-end="358" data-start="347" style="caret-color: rgb(0\, 0\, 0)\; font-size: 14px\;">11:00 AM</strong></div>\n\n<div class="x_elementToProof" style="color: rgb(0\, 0\, 0)\; font-family: Aptos\, Aptos_EmbeddedFont\, Aptos_MSFontService\, Calibri\, Helvetica\, sans-serif\, serif\, EmojiFont\; font-size: 12pt\; border: 0px\; font-variant-numeric: inherit\; font-variant-east-asian: inherit\; font-variant-alternates: inherit\; font-variant-position: inherit\; line-height: inherit\; font-optical-sizing: inherit\; font-size-adjust: inherit\; font-kerning: inherit\; font-feature-settings: inherit\; font-variation-settings: inherit\; margin: 1em 0px\; padding: 0px\; vertical-align: baseline\;"><span style="font-size: 20px\;"><strong>We hope to see you there!</strong></span></div>\n</div>\n</div>\n\n<div align="center" background-color:="" font-size:="" text-align:="" trebuchet="">\n<div align="center" font-size:="" open="">&nbsp\;</div>\n</div>\n
LOCATION:600 Greensburg Commons Shopping Center | Greensburg\, IN 47240
UID:e.1535.4341
SEQUENCE:3
DTSTAMP:20260422T204419Z
URL:https://www.greensburgchamber.com/events/details/ribbon-cutting-x-hometown-tanning-llc-4341
END:VEVENT

END:VCALENDAR
