BEGIN:VCALENDAR
VERSION:2.0
PRODID:-//ChamberMaster//Event Calendar 2.0//EN
METHOD:PUBLISH
X-PUBLISHED-TTL:P3D
REFRESH-INTERVAL:P3D
CALSCALE:GREGORIAN
BEGIN:VEVENT
DTSTART:20260409T190000Z
DTEND:20260409T200000Z
X-MICROSOFT-CDO-ALLDAYEVENT:FALSE
SUMMARY:RIBBON CUTTING x Plum Tree Realty
DESCRIPTION:JOIN US!\n\nPlum Tree Realty\n\nRibbon Cutting\n\n\n\nThursday\, April 9th | 3:00 PM - 4:00 PM\n\n127 E. Main Street | Greensburg\, IN 47240\n\n\nThe GDC Chamber is proud to officially welcome Plum Tree Realty to the Chamber family with a ribbon cutting celebration for their NEW Greensburg office!   \n\n  127 E. Main Street\, Greensburg\, IN 47240\n\n  Thursday\, April 9\n\n  3:00 PM\n\nAs Plum Tree Realty expands into Indiana\, their Greensburg location marks an exciting investment in our community and region. Their team of dedicated professionals is ready to serve clients with personalized service\, trusted local expertise\, and a commitment to helping families and businesses find the perfect place to call home.\n\nJoin us as we celebrate this exciting new chapter\, meet the team\, and give Plum Tree Realty a warm Chamber welcome! We hope to see you there!  \n\n\n 127 E. Main Street\n\n  3:00 PM\n\nWe hope to see you there!
X-ALT-DESC;FMTTYPE=text/html:<div align="center" background-color:="" font-size:="" text-align:="" trebuchet=""><span style="color: rgb(51\, 51\, 51)\; font-family: arial\;"><span style="font-size:26px\;"><span style="color:#518F96\;"><span style="font-weight: 700\; text-align: center\; background-color: rgb(255\, 255\, 255)\;">JOIN US!</span></span></span></span><br />\n<font color="#b45108"><span style="caret-color: rgb(180\, 81\, 8)\; font-size: 26px\;"><b>Plum Tree Realty</b></span></font><br />\n<span style="color: rgb(51\, 51\, 51)\; font-size: 22px\;"><span style="color: rgb(4\, 36\, 77)\; font-family: Arial\, Verdana\, Helvetica\, sans-serif\; font-weight: 700\; text-align: center\;">Ribbon Cutting</span></span><br />\n<br />\n<span style="color: rgb(180\, 81\, 8)\; font-family: arial\; font-size: 22px\; font-weight: 700\; text-align: -webkit-center\; caret-color: rgb(180\, 81\, 8)\;">Thursday\, April 9th | 3:00 PM - 4:00 PM</span><br />\n<span style="color: rgb(81\, 143\, 150)\; font-family: arial\; font-size: 16px\; font-weight: 700\; text-align: -webkit-center\; caret-color: rgb(81\, 143\, 150)\;">127 E. Main Street | Greensburg\, IN 47240</span>\n<div class="x_elementToProof" data-olk-copy-source="MessageBody" style="border: 0px\; font-variant-numeric: inherit\; font-variant-east-asian: inherit\; font-variant-alternates: inherit\; font-variant-position: inherit\; font-width: inherit\; line-height: inherit\; font-optical-sizing: inherit\; font-size-adjust: inherit\; font-kerning: inherit\; font-feature-settings: inherit\; font-variation-settings: inherit\; margin: 1em 0px\; padding: 0px\; vertical-align: baseline\;">\n<div class="x_elementToProof" data-olk-copy-source="MessageBody" style="border: 0px\; font-variant-numeric: inherit\; font-variant-east-asian: inherit\; font-variant-alternates: inherit\; font-variant-position: inherit\; font-width: inherit\; line-height: inherit\; font-optical-sizing: inherit\; font-size-adjust: inherit\; font-kerning: inherit\; font-feature-settings: inherit\; font-variation-settings: inherit\; margin: 1em 0px\; padding: 0px\; vertical-align: baseline\;">\n<p data-end="239" data-start="55" style="caret-color: rgb(0\, 0\, 0)\; color: rgb(0\, 0\, 0)\;"><strong><span style="font-size:18px\;">The GDC Chamber is proud to officially welcome&nbsp\;<strong data-end="143" data-start="102">Plum Tree Realty</strong>&nbsp\;to the Chamber family with a ribbon cutting celebration for their NEW Greensburg office! &#127795\;&#127969\;</span></strong></p>\n\n<p data-end="358" data-start="241" style="caret-color: rgb(0\, 0\, 0)\; color: rgb(0\, 0\, 0)\;"><span style="font-size:14px\;">&#128205\;&nbsp\;<strong data-end="315" data-start="244">127 E. Main Street\,&nbsp\;<span class="hover:entity-accent entity-underline inline cursor-pointer align-baseline"><span class="whitespace-normal">Greensburg</span></span>\, IN 47240</strong><br data-end="318" data-start="315" />\n&#128467\;&nbsp\;<strong data-end="342" data-start="321">Thursday\, April 9</strong><br data-end="345" data-start="342" />\n&#9200\;&nbsp\;<strong data-end="358" data-start="347">3:00 PM</strong></span></p>\n\n<p data-end="692" data-start="360" style="caret-color: rgb(0\, 0\, 0)\; color: rgb(0\, 0\, 0)\;"><span style="font-size:14px\;">As Plum Tree Realty expands into Indiana\, their Greensburg location marks an exciting investment in our community and region. Their team of dedicated professionals is ready to serve clients with personalized service\, trusted local expertise\, and a commitment to helping families and businesses find the perfect place to call home.</span></p>\n\n<p data-end="838" data-is-last-node="" data-is-only-node="" data-start="694" style="caret-color: rgb(0\, 0\, 0)\; color: rgb(0\, 0\, 0)\;"><span style="font-size:14px\;">Join us as we celebrate this exciting new chapter\, meet the team\, and give Plum Tree Realty a warm Chamber welcome! We hope to see you there! &#127882\;</span></p>\n</div>\n\n<div class="x_elementToProof" style="color: rgb(0\, 0\, 0)\; font-family: Aptos\, Aptos_EmbeddedFont\, Aptos_MSFontService\, Calibri\, Helvetica\, sans-serif\, serif\, EmojiFont\; font-size: 12pt\; border: 0px\; font-variant-numeric: inherit\; font-variant-east-asian: inherit\; font-variant-alternates: inherit\; font-variant-position: inherit\; font-width: inherit\; line-height: inherit\; font-optical-sizing: inherit\; font-size-adjust: inherit\; font-kerning: inherit\; font-feature-settings: inherit\; font-variation-settings: inherit\; margin: 1em 0px\; padding: 0px\; vertical-align: baseline\;"><span style="font-size:20px\;"><strong>&#128205\;</strong></span><span style="caret-color: rgb(81\, 143\, 150)\; color: rgb(81\, 143\, 150)\; font-family: arial\; font-size: 16px\; font-weight: 700\; text-align: -webkit-center\;">127 E. Main Street</span><br />\n<span style="caret-color: rgb(0\, 0\, 0)\; color: rgb(0\, 0\, 0)\; font-size: 14px\; text-align: -webkit-center\;">&#9200\;&nbsp\;</span><strong data-end="358" data-start="347" style="caret-color: rgb(0\, 0\, 0)\; color: rgb(0\, 0\, 0)\; font-size: 14px\; text-align: -webkit-center\;">3:00 PM</strong></div>\n\n<div class="x_elementToProof" style="color: rgb(0\, 0\, 0)\; font-family: Aptos\, Aptos_EmbeddedFont\, Aptos_MSFontService\, Calibri\, Helvetica\, sans-serif\, serif\, EmojiFont\; font-size: 12pt\; border: 0px\; font-variant-numeric: inherit\; font-variant-east-asian: inherit\; font-variant-alternates: inherit\; font-variant-position: inherit\; font-width: inherit\; line-height: inherit\; font-optical-sizing: inherit\; font-size-adjust: inherit\; font-kerning: inherit\; font-feature-settings: inherit\; font-variation-settings: inherit\; margin: 1em 0px\; padding: 0px\; vertical-align: baseline\;"><span style="font-size:20px\;"><strong>We hope to see you there!</strong></span></div>\n</div>\n</div>\n\n<div align="center" background-color:="" font-size:="" style="color: rgb(51\, 51\, 51)\; font-family: sans-serif\, Arial\, Verdana\, " text-align:="" trebuchet="">\n<div align="center" font-size:="" open="" style="font-family: ">&nbsp\;</div>\n</div>\n
LOCATION:127 E. Main Street | Greensburg\, IN 47240
UID:e.1535.4335
SEQUENCE:3
DTSTAMP:20260422T222227Z
URL:https://www.greensburgchamber.com/events/details/ribbon-cutting-x-plum-tree-realty-4335
END:VEVENT

END:VCALENDAR
