BEGIN:VCALENDAR
VERSION:2.0
PRODID:-//ChamberMaster//Event Calendar 2.0//EN
METHOD:PUBLISH
X-PUBLISHED-TTL:P3D
REFRESH-INTERVAL:P3D
CALSCALE:GREGORIAN
BEGIN:VEVENT
DTSTART:20260205T230000Z
DTEND:20260206T001500Z
X-MICROSOFT-CDO-ALLDAYEVENT:FALSE
SUMMARY:Sourdough for Beginners
DESCRIPTION:Learn the art of sourdough from start to finish! Ms. Jones of Sweet and Sour-dough will guide you through the process of creating and caring for your own starter\, kneading and shaping dough\, and baking a beautiful loaf from scratch. Perfect for beginners who want to bring warmth to their kitchen. \n\n \n\nLimited seating available\, please register with Bread of Life at 812-663-1055 ASAP to reserve your spot!
X-ALT-DESC;FMTTYPE=text/html:<p>Learn the art of sourdough from start to finish! Ms. Jones of Sweet and Sour-dough will guide you through the process of creating and caring for your own starter\, kneading and shaping dough\, and baking a beautiful loaf from scratch. Perfect for beginners who want to bring warmth to their kitchen.&nbsp\;</p>\n\n<p>&nbsp\;</p>\n\n<p>Limited seating available\, please register with Bread of Life at 812-663-1055 ASAP to reserve your spot!</p>\n
LOCATION:720 Randall St
UID:e.1535.4301
SEQUENCE:3
DTSTAMP:20260423T043158Z
URL:https://www.greensburgchamber.com/events/details/sourdough-for-beginners-4301
END:VEVENT

END:VCALENDAR
