BEGIN:VCALENDAR
VERSION:2.0
PRODID:-//ChamberMaster//Event Calendar 2.0//EN
METHOD:PUBLISH
X-PUBLISHED-TTL:P3D
REFRESH-INTERVAL:P3D
CALSCALE:GREGORIAN
BEGIN:VEVENT
DTSTART:20260422T220000Z
DTEND:20260422T230000Z
X-MICROSOFT-CDO-ALLDAYEVENT:FALSE
SUMMARY:The Excel Center of Shelbyville Evening Orientation!
DESCRIPTION:* NOW OFFERING NIGHT CLASSES!* Interested in earning your high school diploma as an adult? The Excel Centers offers you that opportunity for free! We also offer free childcare during class time\, free transportation assistance\, free life coaching\, and much more. To apply\, visit www.excelcenter.org/enroll. Feel free to come to our orientations as well! We look forward to meeting you!
X-ALT-DESC;FMTTYPE=text/html:* NOW OFFERING NIGHT CLASSES!*&nbsp\;Interested in earning your high school diploma as an adult? The Excel Centers offers you that opportunity for free! We also offer free childcare during class time\, free transportation assistance\, free life coaching\, and much more. To apply\, visit www.excelcenter.org/enroll. Feel free to come to our orientations as well! We look forward to meeting you!&nbsp\;
LOCATION:117 N. Harrison St. Shelbyville\, IN 46176
UID:e.1535.4355
SEQUENCE:3
DTSTAMP:20260420T193708Z
URL:https://www.greensburgchamber.com/events/details/the-excel-center-of-shelbyville-evening-orientation-4355
END:VEVENT

END:VCALENDAR
