BEGIN:VCALENDAR
VERSION:2.0
PRODID:-//ChamberMaster//Event Calendar 2.0//EN
METHOD:PUBLISH
X-PUBLISHED-TTL:P3D
REFRESH-INTERVAL:P3D
CALSCALE:GREGORIAN
BEGIN:VEVENT
DTSTART;VALUE=DATE:20260305
DTEND;VALUE=DATE:20260306
TRANSP:TRANSPARENT
X-MICROSOFT-CDO-ALLDAYEVENT:TRUE
SUMMARY:Turkey Noodle Drive-Thru Tickets on Sale!
DESCRIPTION:Turkey Noodle Drive-Thru Dinner Tickets are now available! \n\n \n\nGet yours at Bread of Life or stop by the Greensburg Library to pick yours up today! Dinner Tickets for the March 5th event are $10 each. A small fee will be added for credit card transactions.
X-ALT-DESC;FMTTYPE=text/html:<p>Turkey Noodle Drive-Thru Dinner Tickets are now available!&nbsp\;</p>\n\n<p>&nbsp\;</p>\n\n<p>Get yours at Bread of Life or stop by the Greensburg Library to pick yours up today! Dinner Tickets for the March 5th event are $10 each. A small fee will be added for credit card transactions.&nbsp\;</p>\n
LOCATION:720 E Randall St
UID:e.1535.4298
SEQUENCE:3
DTSTAMP:20260419T121316Z
URL:https://www.greensburgchamber.com/events/details/turkey-noodle-drive-thru-tickets-on-sale-4298
END:VEVENT

END:VCALENDAR
