BEGIN:VCALENDAR
VERSION:2.0
PRODID:-//ChamberMaster//Event Calendar 2.0//EN
METHOD:PUBLISH
X-PUBLISHED-TTL:P3D
REFRESH-INTERVAL:P3D
CALSCALE:GREGORIAN
BEGIN:VEVENT
DTSTART:20260117T180000Z
DTEND:20260117T200000Z
X-MICROSOFT-CDO-ALLDAYEVENT:FALSE
SUMMARY:Valentine's Macrame Workshop
DESCRIPTION:Macrame Heart Keychain Workshop\n\nJoin us for a fun and creative macrame workshop at The Branch in Greensburg where you'll learn to make an adorable heart-inspired keychain! This project is beginner-friendly and a perfect way to try your hand at macrame while creating something you'll actually use (or gift!).\n\nI'll guide you step-by-step through the knots and techniques needed to create your own heart design keychain   a sweet symbol of love\, friendship\, or self-care. All materials are provided\, and no experience is necessary!\n\nCome enjoy a relaxing\, hands-on experience surrounded by good company\, creativity\, cozy vibes\, and amazing coffee!\n\n\n\nRSVP here https://square.link/u/03yDB6SM
X-ALT-DESC;FMTTYPE=text/html:<p>Macrame Heart Keychain Workshop</p>\n\n<p>Join us for a fun and creative macrame workshop at The Branch in Greensburg where you&rsquo\;ll learn to make an adorable heart-inspired keychain! This project is beginner-friendly and a perfect way to try your hand at macrame while creating something you&rsquo\;ll actually use (or gift!).</p>\n\n<p>I&rsquo\;ll guide you step-by-step through the knots and techniques needed to create your own heart design keychain &mdash\; a sweet symbol of love\, friendship\, or self-care. All materials are provided\, and no experience is necessary!</p>\n\n<p>Come enjoy a relaxing\, hands-on experience surrounded by good company\, creativity\, cozy vibes\, and amazing coffee!<br />\n<br />\nRSVP here&nbsp\;https://square.link/u/03yDB6SM</p>\n
LOCATION:The Branch Gathering Place + Coffee House 113 N Broadway St. Greensburg\, IN 47240
UID:e.1535.4293
SEQUENCE:3
DTSTAMP:20260423T060400Z
URL:https://www.greensburgchamber.com/events/details/valentine-s-macrame-workshop-4293
END:VEVENT

END:VCALENDAR
